BEGIN:VCALENDAR
VERSION:2.0
PRODID:< http://www.open2c.de/ >
METHOD:PUBLISH
X-PUBLISHED-TTL:PT12H
BEGIN:VEVENT
CREATED:20260108T230000Z
LAST-MODIFIED:20260108T230000Z
DTSTAMP:20260424T084201Z
DTSTART;VALUE=DATE:20261218
SUMMARY:Papiertonne
DESCRIPTION:Abholung auf Bestellung
LOCATION:im gesamten Gemeindegebiet
UID:b898c46fa85859df5045db896f69f5c8@9f116320a4e3660fb27753681c0a5f90
END:VEVENT
END:VCALENDAR