BEGIN:VCALENDAR
VERSION:2.0
PRODID:< http://www.open2c.de/ >
METHOD:PUBLISH
X-PUBLISHED-TTL:PT12H
BEGIN:VEVENT
CREATED:20260108T230000Z
LAST-MODIFIED:20260108T230000Z
DTSTAMP:20260421T164310Z
DTSTART;VALUE=DATE:20260703
SUMMARY:Papiertonne
DESCRIPTION:Abholung auf Bestellung
LOCATION:im gesamten Gemeindegebiet
UID:32cc40da292f3689681bee3187902d66@9f116320a4e3660fb27753681c0a5f90
END:VEVENT
END:VCALENDAR