BEGIN:VCALENDAR
VERSION:2.0
PRODID:< http://www.open2c.de/ >
METHOD:PUBLISH
X-PUBLISHED-TTL:PT12H
BEGIN:VEVENT
CREATED:20251125T105927Z
LAST-MODIFIED:20251125T105953Z
ORGANIZER;CN="Markt Kirchseeon"
DTSTAMP:20260422T093447Z
DTSTART;VALUE=DATE:20260611
CATEGORIES:Sprechstunde
SUMMARY:Rentenberatung
DESCRIPTION:Es besteht die Möglichkeit einer Rentenberatung im Rathaus. Pe
	ter Murr bietet donnerstags Termine an. Bitte rufen Sie ihn hierfür unter
	 Telefon 08092 23442 an\, da dieser Service nur nach vorheriger Terminabspr
	ache möglich ist. Organisator Markt Kirchseeon
LOCATION:Rathaus\, Rathausstr. 1\, Kirchseeon
UID:79a1424742aeb6a7bd2437279236726f@9f116320a4e3660fb27753681c0a5f90
END:VEVENT
BEGIN:VEVENT
CREATED:20260415T124653Z
LAST-MODIFIED:20260415T125044Z
ORGANIZER;CN="Markt Kirchseeon\, Rathausstraße 1"
DTSTAMP:20260422T093447Z
DTSTART;VALUE=DATE:20260618
CATEGORIES:Versammlungen
SUMMARY:Bürgerversammlung 2026
DESCRIPTION: Organisator Markt Kirchseeon\, Rathausstraße 1
LOCATION:ATSV Halle\, Sportplatzweg 7\, 85614 Kirchseeon
UID:e209e2cd1e0e352f27ff7bca88659d00@9f116320a4e3660fb27753681c0a5f90
END:VEVENT
BEGIN:VEVENT
CREATED:20251125T110003Z
LAST-MODIFIED:20251125T110035Z
ORGANIZER;CN="Markt Kirchseeon"
DTSTAMP:20260422T093447Z
DTSTART;VALUE=DATE:20260625
CATEGORIES:Sprechstunde
SUMMARY:Rentenberatung
DESCRIPTION:Es besteht die Möglichkeit einer Rentenberatung im Rathaus. Pe
	ter Murr bietet donnerstags Termine an. Bitte rufen Sie ihn hierfür unter
	 Telefon 08092 23442 an\, da dieser Service nur nach vorheriger Terminabspr
	ache möglich ist. Organisator Markt Kirchseeon
LOCATION:Rathaus\, Rathausstr. 1\, Kirchseeon
UID:a40775e69f0430f131f17b643d99ea84@9f116320a4e3660fb27753681c0a5f90
END:VEVENT
END:VCALENDAR