BEGIN:VCALENDAR
VERSION:2.0
PRODID:< http://www.open2c.de/ >
METHOD:PUBLISH
X-PUBLISHED-TTL:PT12H
BEGIN:VEVENT
CREATED:20251111T111739Z
LAST-MODIFIED:20251111T111833Z
ORGANIZER;CN="Markt Kirchseeon\, Energie- und Umweltamt":MAILTO:bauamt@kirchseeon.de
DTSTAMP:20260422T182405Z
DTSTART:20260920T100000Z
DTEND:20260920T160000Z
CATEGORIES:Feste
SUMMARY:Energie- und Umwelttag 2026
DESCRIPTION:Organisator Markt Kirchseeon\, Energie- und Umweltamt Kontakt ba
	uamt@kirchseeon.de
LOCATION:Marktplatz Kirchseeon
UID:8bf1346c39dbadf04af5f3dacaa9a2bd@9f116320a4e3660fb27753681c0a5f90
END:VEVENT
END:VCALENDAR