BEGIN:VCALENDAR
VERSION:1.0
PRODID:Open2CKalenderExportV11
BEGIN:VEVENT
DTSTAMP:20260108T230000Z
DTSTART:20260929T000000Z
DTEND:20260929T000000Z
SUMMARY:Restmüll
DESCRIPTION:Abholung der Dienstagstour 
LOCATION:Ahornstraße, Alois-Birner-Weg, Alpenstraße, Am Herterfeld, Am Mitterfeld, Am Wald, Anzinger Straße, Brünnsteinstraße, Diana, Eichenstraße, Eschenweg, Fichtenweg, Forstweg, Fritz-Arnold-Straße, Hauptstraße (gerade Hausnr.), Hirschenweg, Hochriesstraße, Hubertusstraße, Hügelweg, Isidor-Muck-Weg, Jägerring, Kampenwandstraße, Karwendelstraße, Keilhofer Weg, Köhlerweg, Kohlenbrennerweg, Kreuzeckstraße, Münchner Straße (B304 gerade Hausnr.), Neukirchen, Pöringer Straße, Ringstraße, Rotbuchenstraße, Rotwandstraße, Siriusstraße, Watzmannstraße, Wendelsteinstraße, Westendstraße, Westring, Xaver-Hamberger-Weg, Zugspitzstraße, Zum Ausblick
UID:889e80f06f8986912a9d866cb66953db-c5ce9ba83db199476e9b7488d4a2b225
PRIORITY:3
END:VEVENT
END:VCALENDAR
