BEGIN:VCALENDAR
VERSION:1.0
PRODID:Open2CKalenderExportV11
BEGIN:VEVENT
DTSTAMP:20260108T230000Z
DTSTART:20261218T000000Z
DTEND:20261218T000000Z
SUMMARY:Papiertonne
DESCRIPTION:Abholung auf Bestellung
LOCATION:im gesamten Gemeindegebiet
UID:beb963c99250798bf0c57528ab38acbd-2ad7e4afeb1f7dcc580da029de7d39fb
PRIORITY:3
END:VEVENT
END:VCALENDAR
