BEGIN:VCALENDAR
VERSION:1.0
PRODID:Open2CKalenderExportV11
BEGIN:VEVENT
DTSTAMP:20260108T230000Z
DTSTART:20261120T000000Z
DTEND:20261120T000000Z
SUMMARY:Papiertonne
DESCRIPTION:Abholung auf Bestellung
LOCATION:im gesamten Gemeindegebiet
UID:c062dcb251b79728a8f68277a18b66c7-2ad7e4afeb1f7dcc580da029de7d39fb
PRIORITY:3
END:VEVENT
END:VCALENDAR
