BEGIN:VCALENDAR
VERSION:1.0
PRODID:Open2CKalenderExportV11
BEGIN:VEVENT
DTSTAMP:20260108T230000Z
DTSTART:20260925T000000Z
DTEND:20260925T000000Z
SUMMARY:Papiertonne
DESCRIPTION:Abholung auf Bestellung
LOCATION:im gesamten Gemeindegebiet
UID:6e0a3c46232c1a57d4f03f1052f0e1b8-2ad7e4afeb1f7dcc580da029de7d39fb
PRIORITY:3
END:VEVENT
END:VCALENDAR
