BEGIN:VCALENDAR
VERSION:1.0
PRODID:Open2CKalenderExportV11
BEGIN:VEVENT
DTSTAMP:20260108T230000Z
DTSTART:20260703T000000Z
DTEND:20260703T000000Z
SUMMARY:Papiertonne
DESCRIPTION:Abholung auf Bestellung
LOCATION:im gesamten Gemeindegebiet
UID:3ae9cf5d17b1465ad075dd7e8795eb4e-2ad7e4afeb1f7dcc580da029de7d39fb
PRIORITY:3
END:VEVENT
END:VCALENDAR
