BEGIN:VCALENDAR
VERSION:1.0
PRODID:Open2CKalenderExportV11
BEGIN:VEVENT
DTSTAMP:20260108T230000Z
DTSTART:20260606T000000Z
DTEND:20260606T000000Z
SUMMARY:Papiertonne
DESCRIPTION:Abholung auf Bestellung
LOCATION:im gesamten Gemeindegebiet
UID:210231cec602e94bfabd9e1152347351-2ad7e4afeb1f7dcc580da029de7d39fb
PRIORITY:3
END:VEVENT
END:VCALENDAR
