BEGIN:VCALENDAR
VERSION:1.0
PRODID:Open2CKalenderExportV11
BEGIN:VEVENT
DTSTAMP:20260108T230000Z
DTSTART:20261001T000000Z
DTEND:20261001T000000Z
SUMMARY:Gelber Sack
DESCRIPTION:Donnerstag Abholung Tour 3 
LOCATION:Alois-Birner-Weg, Am Herterfeld, Am Hang, Am Wald, Anzinger Straße, Bucher Straße, Egilostraße, Eglhartinger Straße, Eichenstraße, Eschenweg, Forstweg, Fritz-Arnold-Straße, Graf-Ulrich-Straße, Hauptstraße, Hirschenweg, Hubertusstraße, Ilchinger Straße, Isidor-Muck-Straße, Jägerring, Josef-Englmann-Weg, Keilhoferweg, Neukirchen, Nordstraße, Pframmerer Straße, Pöringer Straße, Ringstraße, Siriusstraße, Westendstraße, Westring, Wiesenstraße, Xaver-Hamberger-Weg, Zornedinger Straße
UID:67fdd6d51a06bf53a2c7840386bc4703-4079baa0f3283eb666be36df0426f213
PRIORITY:3
END:VEVENT
END:VCALENDAR
