BEGIN:VCALENDAR
VERSION:1.0
PRODID:Open2CKalenderExportV11
BEGIN:VEVENT
DTSTAMP:20260108T230000Z
DTSTART:20260610T000000Z
DTEND:20260610T000000Z
SUMMARY:Gelber Sack
DESCRIPTION:Mittwoch Abholung Tour 2^- verlegt auf Donnerstag wegen Feiertag
LOCATION:Ahornstraße, Am Dachsberg, Am Kleinfeld, Am Lohholz, An der Brücke, Bahnsteg, Birkenweg, Deinhofener Straße, Dr. Georg-Hacker-Straße, Eglhartinger Weg, Feldweg, Fichtenweg, Fuchsweg, Heinrich-Egger-Straße, Hügelweg, Ilching, Jahnstraße, Karl-Birkmaier-Straße,  Kirchseeoner Weg, Köhlerweg, Kohlenbrennerweg, Lindenstraße, Moosacher Straße, Mühlweg, Münchner Straße, Nonnenplatz, Nonnenstraße, Ostring, Parkstraße, Riedering, Riederinger Straße, Rotkreuzstraße, Rodelbahn, Siedlerstraße, Sonnenstraße, Theodor-Haagn-Straße 
UID:1ba1f5b9d835b17a7372a879e88e9b46-e82bb5cce036b809f60189177c58d074
PRIORITY:3
END:VEVENT
END:VCALENDAR
