BEGIN:VCALENDAR
VERSION:1.0
PRODID:Open2CKalenderExportV11
BEGIN:VEVENT
DTSTAMP:20260107T230000Z
DTSTART:20260929T000000Z
DTEND:20260929T000000Z
SUMMARY:Gelber Sack
DESCRIPTION:Dienstag Abholung Tour 1  
LOCATION:Adolph-Kolping-Straße, Alpenstraße, Am Berghang, Am Hirtenfeld, Am Marterfeld, Aubachstraße, Bahnhofsplatz, Bergweg, Bleibinhausweg, Brünnsteinstraße, Diana, Ebersberger Straße, Flurstraße, Forstseeon, Forstseeoner Straße, Fritz-Litzlfelder-Straße, Gartenweg, Hochriesstraße, Kampenwandstraße, Karwendelstraße, Keilstraße, Kirchenweg, Koloniestraße, Kreuzeckstraße, Marktplatz, Moos, Osterseeon, Osterseeoner Straße, Pfarrer-Antholzner-Straße, Rathausstraße, Riedlinger Straße, Rotbuchenstraße, Rotwandstraße, Schulgasse, Spannleitenberg, Sportplatzweg, St.-Coloman-Straße, Talweg, Vogelbergerstraße, Waldbahn, Wallnerstraße, Wasserburger Straße, Watzmannstraße, Wendelsteinstraße, Werkstraße, Zugspitzstraße, Zum Ausblick
UID:889e80f06f8986912a9d866cb66953db-1ca54916adb37ac5ae8b9ac23a1ef616
PRIORITY:3
END:VEVENT
END:VCALENDAR
