BEGIN:VCALENDAR
VERSION:1.0
PRODID:Open2CKalenderExportV11
BEGIN:VEVENT
DTSTAMP:20251125T105953Z
DTSTART:20260611T000000Z
DTEND:20260611T000000Z
CATEGORIES:Sprechstunde
SUMMARY:Rentenberatung
DESCRIPTION:Es besteht die Möglichkeit einer Rentenberatung im Rathaus. Peter Murr bietet donnerstags Termine an. Bitte rufen Sie ihn hierfür unter Telefon 08092 23442 an, da dieser Service nur nach vorheriger Terminabsprache möglich ist. | Organisator   Markt Kirchseeon
LOCATION:Rathaus, Rathausstr. 1, Kirchseeon
UID:859c235767658079c1ed8466d77a83b6-cdbcf99e0f8fdfd9ce445425cb0a9453
PRIORITY:3
END:VEVENT
BEGIN:VEVENT
DTSTAMP:20260415T125044Z
DTSTART:20260618T190000Z
DTEND:20260618T190000Z
CATEGORIES:Versammlungen
SUMMARY:Bürgerversammlung 2026
DESCRIPTION: | Organisator   Markt Kirchseeon, Rathausstraße 1
LOCATION:ATSV Halle, Sportplatzweg 7, 85614 Kirchseeon
UID:209611d69d9f4cbdb921f368769d6903-07cc373805d503a998a66572a4bcb6fa
PRIORITY:3
END:VEVENT
BEGIN:VEVENT
DTSTAMP:20251125T110035Z
DTSTART:20260625T000000Z
DTEND:20260625T000000Z
CATEGORIES:Sprechstunde
SUMMARY:Rentenberatung
DESCRIPTION:Es besteht die Möglichkeit einer Rentenberatung im Rathaus. Peter Murr bietet donnerstags Termine an. Bitte rufen Sie ihn hierfür unter Telefon 08092 23442 an, da dieser Service nur nach vorheriger Terminabsprache möglich ist. | Organisator   Markt Kirchseeon
LOCATION:Rathaus, Rathausstr. 1, Kirchseeon
UID:f6fd99bd0b8757a63b3d902bb2eda186-cdbcf99e0f8fdfd9ce445425cb0a9453
PRIORITY:3
END:VEVENT
END:VCALENDAR
